Workbook

Sheet This week
A1: This week at a glance
A2: Reads the most recent row on the Weekly tab. Nothing to type here.
A3: Latest row position | B3: =IFERROR(MATCH(9.99E+307,Weekly!$B$4:$B$163),0)
A5: Metric | B5: This week | C5: Last week | D5: Change
A6: Leads | B6: =IF($B$3=0,"",INDEX(Weekly!$B$4:$B$163,$B$3)) | C6: =IF($B$3<2,"",INDEX(Weekly!$B$4:$B$163,$B$3-1)) | D6: =IF(OR(B6="",C6=""),"",B6-C6)
A7: Estimates sent | B7: =IF($B$3=0,"",INDEX(Weekly!$C$4:$C$163,$B$3)) | C7: =IF($B$3<2,"",INDEX(Weekly!$C$4:$C$163,$B$3-1)) | D7: =IF(OR(B7="",C7=""),"",B7-C7)
A8: Jobs won | B8: =IF($B$3=0,"",INDEX(Weekly!$D$4:$D$163,$B$3)) | C8: =IF($B$3<2,"",INDEX(Weekly!$D$4:$D$163,$B$3-1)) | D8: =IF(OR(B8="",C8=""),"",B8-C8)
A9: Close rate | B9: =IF($B$3=0,"",INDEX(Weekly!$H$4:$H$163,$B$3)) | C9: =IF($B$3<2,"",INDEX(Weekly!$H$4:$H$163,$B$3-1)) | D9: =IF(OR(B9="",C9=""),"",B9-C9)
A10: Average ticket | B10: =IF($B$3=0,"",INDEX(Weekly!$I$4:$I$163,$B$3)) | C10: =IF($B$3<2,"",INDEX(Weekly!$I$4:$I$163,$B$3-1)) | D10: =IF(OR(B10="",C10=""),"",B10-C10)
A11: Revenue (won jobs) | B11: =IF($B$3=0,"",INDEX(Weekly!$E$4:$E$163,$B$3)) | C11: =IF($B$3<2,"",INDEX(Weekly!$E$4:$E$163,$B$3-1)) | D11: =IF(OR(B11="",C11=""),"",B11-C11)
A12: Open invoices | B12: =IF($B$3=0,"",INDEX(Weekly!$F$4:$F$163,$B$3)) | C12: =IF($B$3<2,"",INDEX(Weekly!$F$4:$F$163,$B$3-1)) | D12: =IF(OR(B12="",C12=""),"",B12-C12)

Sheet Weekly
A1: Weekly Owner Scorecard
A2: One row per week. Type in columns A to F; the grey columns calculate themselves.
A3: Week starting | B3: Leads | C3: Estimates sent | D3: Jobs won | E3: Revenue (won jobs) | F3: Open invoices ($) | G3: Estimate rate | H3: Close rate | I3: Avg ticket | J3: Close-rate change (pts) | K3: Note
A4: 46272 | B4: 24 | C4: 15 | D4: 6 | E4: 15900 | F4: 22400 | G4: =IF(B4="","",IF(B4>0,C4/B4,"")) | H4: =IF(C4="","",IF(C4>0,D4/C4,"")) | I4: =IF(D4="","",IF(D4>0,E4/D4,"")) | K4: SAMPLE data. Delete this row.
A5: 46279 | B5: 27 | C5: 17 | D5: 7 | E5: 19800 | F5: 21100 | G5: =IF(B5="","",IF(B5>0,C5/B5,"")) | H5: =IF(C5="","",IF(C5>0,D5/C5,"")) | I5: =IF(D5="","",IF(D5>0,E5/D5,"")) | J5: =IF(AND(ISNUMBER(H5),ISNUMBER(H4)),H5-H4,"") | K5: SAMPLE data. Delete this row.
A6: 46286 | B6: 22 | C6: 13 | D6: 5 | E6: 13500 | F6: 24600 | G6: =IF(B6="","",IF(B6>0,C6/B6,"")) | H6: =IF(C6="","",IF(C6>0,D6/C6,"")) | I6: =IF(D6="","",IF(D6>0,E6/D6,"")) | J6: =IF(AND(ISNUMBER(H6),ISNUMBER(H5)),H6-H5,"") | K6: SAMPLE data. Delete this row.
A7: 46293 | B7: 31 | C7: 19 | D7: 8 | E7: 23200 | F7: 23900 | G7: =IF(B7="","",IF(B7>0,C7/B7,"")) | H7: =IF(C7="","",IF(C7>0,D7/C7,"")) | I7: =IF(D7="","",IF(D7>0,E7/D7,"")) | J7: =IF(AND(ISNUMBER(H7),ISNUMBER(H6)),H7-H6,"") | K7: SAMPLE data. Delete this row.
A8: 46300 | B8: 29 | C8: 18 | D8: 7 | E8: 20400 | F8: 22300 | G8: =IF(B8="","",IF(B8>0,C8/B8,"")) | H8: =IF(C8="","",IF(C8>0,D8/C8,"")) | I8: =IF(D8="","",IF(D8>0,E8/D8,"")) | J8: =IF(AND(ISNUMBER(H8),ISNUMBER(H7)),H8-H7,"") | K8: SAMPLE data. Delete this row.
A9: 46307 | B9: 33 | C9: 21 | D9: 9 | E9: 26100 | F9: 20800 | G9: =IF(B9="","",IF(B9>0,C9/B9,"")) | H9: =IF(C9="","",IF(C9>0,D9/C9,"")) | I9: =IF(D9="","",IF(D9>0,E9/D9,"")) | J9: =IF(AND(ISNUMBER(H9),ISNUMBER(H8)),H9-H8,"") | K9: SAMPLE data. Delete this row.
A10: 46314 | B10: 30 | C10: 19 | D10: 8 | E10: 22600 | F10: 19700 | G10: =IF(B10="","",IF(B10>0,C10/B10,"")) | H10: =IF(C10="","",IF(C10>0,D10/C10,"")) | I10: =IF(D10="","",IF(D10>0,E10/D10,"")) | J10: =IF(AND(ISNUMBER(H10),ISNUMBER(H9)),H10-H9,"") | K10: SAMPLE data. Delete this row.
A11: 46321 | B11: 34 | C11: 22 | D11: 10 | E11: 28400 | F11: 18450 | G11: =IF(B11="","",IF(B11>0,C11/B11,"")) | H11: =IF(C11="","",IF(C11>0,D11/C11,"")) | I11: =IF(D11="","",IF(D11>0,E11/D11,"")) | J11: =IF(AND(ISNUMBER(H11),ISNUMBER(H10)),H11-H10,"") | K11: SAMPLE data. Delete this row.
G12: =IF(B12="","",IF(B12>0,C12/B12,"")) | H12: =IF(C12="","",IF(C12>0,D12/C12,"")) | I12: =IF(D12="","",IF(D12>0,E12/D12,"")) | J12: =IF(AND(ISNUMBER(H12),ISNUMBER(H11)),H12-H11,"")
G13: =IF(B13="","",IF(B13>0,C13/B13,"")) | H13: =IF(C13="","",IF(C13>0,D13/C13,"")) | I13: =IF(D13="","",IF(D13>0,E13/D13,"")) | J13: =IF(AND(ISNUMBER(H13),ISNUMBER(H12)),H13-H12,"")
G14: =IF(B14="","",IF(B14>0,C14/B14,"")) | H14: =IF(C14="","",IF(C14>0,D14/C14,"")) | I14: =IF(D14="","",IF(D14>0,E14/D14,"")) | J14: =IF(AND(ISNUMBER(H14),ISNUMBER(H13)),H14-H13,"")
G15: =IF(B15="","",IF(B15>0,C15/B15,"")) | H15: =IF(C15="","",IF(C15>0,D15/C15,"")) | I15: =IF(D15="","",IF(D15>0,E15/D15,"")) | J15: =IF(AND(ISNUMBER(H15),ISNUMBER(H14)),H15-H14,"")
G16: =IF(B16="","",IF(B16>0,C16/B16,"")) | H16: =IF(C16="","",IF(C16>0,D16/C16,"")) | I16: =IF(D16="","",IF(D16>0,E16/D16,"")) | J16: =IF(AND(ISNUMBER(H16),ISNUMBER(H15)),H16-H15,"")
G17: =IF(B17="","",IF(B17>0,C17/B17,"")) | H17: =IF(C17="","",IF(C17>0,D17/C17,"")) | I17: =IF(D17="","",IF(D17>0,E17/D17,"")) | J17: =IF(AND(ISNUMBER(H17),ISNUMBER(H16)),H17-H16,"")
G18: =IF(B18="","",IF(B18>0,C18/B18,"")) | H18: =IF(C18="","",IF(C18>0,D18/C18,"")) | I18: =IF(D18="","",IF(D18>0,E18/D18,"")) | J18: =IF(AND(ISNUMBER(H18),ISNUMBER(H17)),H18-H17,"")
G19: =IF(B19="","",IF(B19>0,C19/B19,"")) | H19: =IF(C19="","",IF(C19>0,D19/C19,"")) | I19: =IF(D19="","",IF(D19>0,E19/D19,"")) | J19: =IF(AND(ISNUMBER(H19),ISNUMBER(H18)),H19-H18,"")
G20: =IF(B20="","",IF(B20>0,C20/B20,"")) | H20: =IF(C20="","",IF(C20>0,D20/C20,"")) | I20: =IF(D20="","",IF(D20>0,E20/D20,"")) | J20: =IF(AND(ISNUMBER(H20),ISNUMBER(H19)),H20-H19,"")
G21: =IF(B21="","",IF(B21>0,C21/B21,"")) | H21: =IF(C21="","",IF(C21>0,D21/C21,"")) | I21: =IF(D21="","",IF(D21>0,E21/D21,"")) | J21: =IF(AND(ISNUMBER(H21),ISNUMBER(H20)),H21-H20,"")
G22: =IF(B22="","",IF(B22>0,C22/B22,"")) | H22: =IF(C22="","",IF(C22>0,D22/C22,"")) | I22: =IF(D22="","",IF(D22>0,E22/D22,"")) | J22: =IF(AND(ISNUMBER(H22),ISNUMBER(H21)),H22-H21,"")
G23: =IF(B23="","",IF(B23>0,C23/B23,"")) | H23: =IF(C23="","",IF(C23>0,D23/C23,"")) | I23: =IF(D23="","",IF(D23>0,E23/D23,"")) | J23: =IF(AND(ISNUMBER(H23),ISNUMBER(H22)),H23-H22,"")
... G163: =IF(B163="","",IF(B163>0,C163/B163,"")) | H163: =IF(C163="","",IF(C163>0,D163/C163,"")) | I163: =IF(D163="","",IF(D163>0,E163/D163,"")) | J163: =IF(AND(ISNUMBER(H163),ISNUMBER(H162)),H163-H162,"")

Sheet Instructions
B2: How to use the Weekly Owner Scorecard
B4: 1. Open the Weekly tab. The first eight rows are SAMPLE data. Delete them before you start (select the row and clear its contents; leave the grey calculated columns alone).
B5: 2. Each Monday, add one row for the week that just ended: week-starting date, leads, estimates sent, jobs won, revenue from those jobs, and total open invoices.
B6: 3. Columns G to J calculate themselves: estimate rate (estimates / leads), close rate (jobs won / estimates), average ticket (revenue / jobs won), and the change in close rate from last week.
B7: 4. Open the This week tab to read the result with change versus last week, and look at the chart below it.
B8: 5. The sheet has room for about three years of weekly rows. The chart shows the first 26 weeks; extend its data range when you pass that.
B10: Where the numbers come from: leads from your CRM or inbox, estimates and jobs from your field software, revenue and open invoices from your invoicing tool.
B11: Consistency beats precision. Count the same way every week.
B13: Made by Helm Systems | helmsystems.biz/field-kit
